BEGIN:VCALENDAR
VERSION:2.0
PRODID:-//Cystinosis Research Network - ECPv6.15.20//NONSGML v1.0//EN
CALSCALE:GREGORIAN
METHOD:PUBLISH
X-ORIGINAL-URL:https://cystinosis.org
X-WR-CALDESC:Events for Cystinosis Research Network
REFRESH-INTERVAL;VALUE=DURATION:PT1H
X-Robots-Tag:noindex
X-PUBLISHED-TTL:PT1H
BEGIN:VTIMEZONE
TZID:UTC
BEGIN:STANDARD
TZOFFSETFROM:+0000
TZOFFSETTO:+0000
TZNAME:UTC
DTSTART:20200101T000000
END:STANDARD
END:VTIMEZONE
BEGIN:VEVENT
DTSTART;TZID=UTC:20210102T160000
DTEND;TZID=UTC:20210102T173000
DTSTAMP:20260422T020005
CREATED:20201230T155550Z
LAST-MODIFIED:20201230T155550Z
UID:2897-1609603200-1609608600@cystinosis.org
SUMMARY:Cystinosis Sessions: January Video Call
DESCRIPTION:All are invited to join as the Adult Leadership Advisory Board hosts our live January video call. This session will touch on the battles and victories associated with cystinosis. Everyone is welcome. \nTopics include but are not limited to: \n\nDifficulties coping during COVID and school\nTension between parents\, siblings and children\nALAB experiences with parental relationships\n\nJoin Zoom Meeting\nhttps://zoom.us/j/2663523786\nMeeting ID: 266 352 3786 \nHere are instructions to help with downloading Zoom. We recommend completing these steps prior to the call. \n\nSecure access to a mobile device (PC\, Apple\, Android)\, desktop or laptop computer\nEnsure reliable internet connection\nDownload Zoom Cloud Meetings here or through your device’s app store\nClick on the link https://zoom.us/j/2663523786\nHave the Meeting ID ready: 266 352 3786. If you use the link provided\, the meeting ID is not needed.\n\nAdd the meeting to your calendar by clicking one of the buttons below. We hope to see you then! \n 
URL:https://cystinosis.org/event/cystinosis-sessions-january-video-call/
CATEGORIES:Gatherings/Conferences
END:VEVENT
END:VCALENDAR