BEGIN:VCALENDAR
VERSION:2.0
PRODID:-//Cystinosis Research Network - ECPv6.15.20//NONSGML v1.0//EN
CALSCALE:GREGORIAN
METHOD:PUBLISH
X-ORIGINAL-URL:https://cystinosis.org
X-WR-CALDESC:Events for Cystinosis Research Network
REFRESH-INTERVAL;VALUE=DURATION:PT1H
X-Robots-Tag:noindex
X-PUBLISHED-TTL:PT1H
BEGIN:VTIMEZONE
TZID:America/New_York
BEGIN:DAYLIGHT
TZOFFSETFROM:-0500
TZOFFSETTO:-0400
TZNAME:EDT
DTSTART:20190310T070000
END:DAYLIGHT
BEGIN:STANDARD
TZOFFSETFROM:-0400
TZOFFSETTO:-0500
TZNAME:EST
DTSTART:20191103T060000
END:STANDARD
BEGIN:DAYLIGHT
TZOFFSETFROM:-0500
TZOFFSETTO:-0400
TZNAME:EDT
DTSTART:20200308T070000
END:DAYLIGHT
BEGIN:STANDARD
TZOFFSETFROM:-0400
TZOFFSETTO:-0500
TZNAME:EST
DTSTART:20201101T060000
END:STANDARD
BEGIN:DAYLIGHT
TZOFFSETFROM:-0500
TZOFFSETTO:-0400
TZNAME:EDT
DTSTART:20210314T070000
END:DAYLIGHT
BEGIN:STANDARD
TZOFFSETFROM:-0400
TZOFFSETTO:-0500
TZNAME:EST
DTSTART:20211107T060000
END:STANDARD
END:VTIMEZONE
BEGIN:VTIMEZONE
TZID:UTC
BEGIN:STANDARD
TZOFFSETFROM:+0000
TZOFFSETTO:+0000
TZNAME:UTC
DTSTART:20190101T000000
END:STANDARD
END:VTIMEZONE
BEGIN:VEVENT
DTSTART;TZID=America/New_York:20200502T160000
DTEND;TZID=America/New_York:20200502T173000
DTSTAMP:20260422T105132
CREATED:20200414T234814Z
LAST-MODIFIED:20200414T235101Z
UID:2399-1588435200-1588440600@cystinosis.org
SUMMARY:Live Video Conference: Dependence\, Education & Employment
DESCRIPTION:Join the Cystinosis Sessions video conference series hosted by the Adult Leadership Advisory Board (ALAB). Starting May 2nd at 4:00 pm ET\, the ALAB welcomes anyone impacted by cystinosis. This “session” will focus on: \n\nEducation\nEmployment\nImportance of Being Self-Reliant vs Being Dependent\nEssential Needs & Medication\nGeneral conversation as time allows\n\nTo join the meeting: \nhttps://zoom.us/j/2663523786 \nMeeting ID: 266 352 3786 \nDownloading Zoom/Video Conference Preparation \n\nSecure access to a mobile device (PC\, Apple\, Android)\, desktop or laptop computer\nEnsure reliable internet connection\nDownload Zoom Cloud Meetings here or through your device’s app store\nClick on the link https://zoom.us/j/2663523786\nHave the Meeting ID ready: 266 352 3786. If you use the link provided\, the meeting ID is not needed.
URL:https://cystinosis.org/event/live-video-conference-dependence-education-employment/
CATEGORIES:Gatherings/Conferences
ATTACH;FMTTYPE=image/png:https://cystinosis.org/wp-content/uploads/2020/03/Logo_Header.png
END:VEVENT
BEGIN:VEVENT
DTSTART;TZID=UTC:20200606T120000
DTEND;TZID=UTC:20200606T133000
DTSTAMP:20260422T105132
CREATED:20200521T050942Z
LAST-MODIFIED:20200521T051344Z
UID:2430-1591444800-1591450200@cystinosis.org
SUMMARY:Cystinosis Sessions: Overcoming Limitations & Goal Setting
DESCRIPTION:The third live video conference takes place June 6 at 12:00 pm ET. The Adult Leadership Advisory Board (adults living with cystinosis) will host the event. Topics will include: \n\nFacing challenges\nPeer pressure\nLimitations & how to overcome them\nGoal setting\n\nDownloading Zoom/Video Conference Prep \n\nSecure access to a mobile device (PC\, Apple\, Android)\, desktop or laptop computer\nEnsure reliable internet connection\nDownload Zoom Cloud Meetings here or through your device’s app store\nClick on the link https://zoom.us/j/2663523786\nHave the Meeting ID ready: 266 352 3786. If you use the link provided\, the meeting ID is not needed.\n\nJoin Zoom Meeting\nhttps://zoom.us/j/2663523786\nMeeting ID: 266 352 3786 \nAdd the meeting to your calendar by clicking one of the buttons below. We look forward to “seeing” you and hearing you on June 6th!
URL:https://cystinosis.org/event/cystinosis-sessions-overcoming-limitations-goal-setting/
CATEGORIES:Gatherings/Conferences
ATTACH;FMTTYPE=image/png:https://cystinosis.org/wp-content/uploads/2020/03/Logo_Header.png
END:VEVENT
BEGIN:VEVENT
DTSTART;TZID=UTC:20201006T190000
DTEND;TZID=UTC:20201006T203000
DTSTAMP:20260422T105132
CREATED:20200917T153750Z
LAST-MODIFIED:20200917T153750Z
UID:2576-1602010800-1602016200@cystinosis.org
SUMMARY:Cystinosis & Mental Health: Virtual Meetup
DESCRIPTION:Let’s have an open discussion on mental health and living with cystinosis. Everyone within the community is invited! Licensed psychologist\, Dr. Cortney Taylor Zimmerman will guide the meetup. \nRegister today at https://us02web.zoom.us/webinar/register/WN_Gw1Wxj3oQkCi00OpR2WFPQ. \nWelcome kits are here – with limited availability.
URL:https://cystinosis.org/event/cystinosis-mental-health-virtual-meetup/
CATEGORIES:Gatherings/Conferences
ATTACH;FMTTYPE=image/png:https://cystinosis.org/wp-content/uploads/2020/09/mentalhealth.png
END:VEVENT
END:VCALENDAR