BEGIN:VCALENDAR
VERSION:2.0
PRODID:-//Cystinosis Research Network - ECPv6.15.20//NONSGML v1.0//EN
CALSCALE:GREGORIAN
METHOD:PUBLISH
X-ORIGINAL-URL:https://cystinosis.org
X-WR-CALDESC:Events for Cystinosis Research Network
REFRESH-INTERVAL;VALUE=DURATION:PT1H
X-Robots-Tag:noindex
X-PUBLISHED-TTL:PT1H
BEGIN:VTIMEZONE
TZID:UTC
BEGIN:STANDARD
TZOFFSETFROM:+0000
TZOFFSETTO:+0000
TZNAME:UTC
DTSTART:20190101T000000
END:STANDARD
END:VTIMEZONE
BEGIN:VEVENT
DTSTART;VALUE=DATE:20200822
DTEND;VALUE=DATE:20200823
DTSTAMP:20260421T235055
CREATED:20200806T065610Z
LAST-MODIFIED:20200807T034601Z
UID:2499-1598054400-1598140799@cystinosis.org
SUMMARY:Podcast: Youth to Adult Transition (part 2)
DESCRIPTION:Youth to Adult Transition Part 2- Q &A Panel with Adults Living with Cystinosis \nPart two of the youth to adult transition discussion is focused on personal experiences of adults living with cystinosis. Joining our panel on behalf of the adult community are Serena Scott (via mum Sue Scott)\, Kevin McCalla\, Ashley Abedini\, and Joe Rumney. \nHosts from the Adult Leadership Advisory Board (ALAB) are Jana Healy\, Sara Healy\, Steve Schleuder\, Cheryl Simoens. \nPlease check back. Link to podcast coming soon.
URL:https://cystinosis.org/event/podcast-youth-to-adult-transition-part-2/
ATTACH;FMTTYPE=image/png:https://cystinosis.org/wp-content/uploads/2020/02/Website_Header.png
END:VEVENT
BEGIN:VEVENT
DTSTART;VALUE=DATE:20200815
DTEND;VALUE=DATE:20200816
DTSTAMP:20260421T235055
CREATED:20200806T065341Z
LAST-MODIFIED:20200814T184450Z
UID:2496-1597449600-1597535999@cystinosis.org
SUMMARY:Podcast: Youth to Adult Transition (part 1)
DESCRIPTION:Youth to Adult Transition Part 1- Discussion with Medical Professionals \nThe third podcast from the ALAB will focus on transitioning from youth to adult medical care. Part one of the youth to adult transition conversation begins with the healthcare professional opinion. Join us and special guests Dr. Paul Grimm from Lucile Packard Children’s Hospital and Stanford University of Medicine and Dori Rivera\, PAM (Patient Access Manager) from Horizon Therapeutics. \nHosts from the Adult Leadership Advisory Board (ALAB) are Jana Healy\, Sara Healy\, Steve Schleuder\, Cheryl Simoens. \nBeginning August 15\,2020 at 9am ET\, this link will go live and connect you to the podcast via YouTube: https://youtu.be/zEMdQmxR0UU. \nThank you for your interest.
URL:https://cystinosis.org/event/podcast-youth-to-adult-transition-part-1/
ATTACH;FMTTYPE=image/png:https://cystinosis.org/wp-content/uploads/2020/02/Website_Header.png
END:VEVENT
END:VCALENDAR