BEGIN:VCALENDAR
VERSION:2.0
PRODID:-//Cystinosis Research Network - ECPv6.15.20//NONSGML v1.0//EN
CALSCALE:GREGORIAN
METHOD:PUBLISH
X-WR-CALNAME:Cystinosis Research Network
X-ORIGINAL-URL:https://cystinosis.org
X-WR-CALDESC:Events for Cystinosis Research Network
REFRESH-INTERVAL;VALUE=DURATION:PT1H
X-Robots-Tag:noindex
X-PUBLISHED-TTL:PT1H
BEGIN:VTIMEZONE
TZID:UTC
BEGIN:STANDARD
TZOFFSETFROM:+0000
TZOFFSETTO:+0000
TZNAME:UTC
DTSTART:20190101T000000
END:STANDARD
END:VTIMEZONE
BEGIN:VEVENT
DTSTART;TZID=UTC:20200929T190000
DTEND;TZID=UTC:20200929T203000
DTSTAMP:20260420T231930
CREATED:20200917T152803Z
LAST-MODIFIED:20200917T153022Z
UID:2573-1601406000-1601411400@cystinosis.org
SUMMARY:Cystinosis Basics: Virtual Meetups
DESCRIPTION:Learn more about the fundamentals of cystinosis during our Cystinosis Basics video meetup. Dr. Larry Greenbaum\, Emory School of Medicine is our expert speaker. Join us by registering today at https://us02web.zoom.us/webinar/register/WN_HU0G6SQuR4W_G8mmFr3bog.\n\nFREE welcome kits – limited availability.\nWe hope you can join us!
URL:https://cystinosis.org/event/cystinosis-basics-virtual-meetups/
LOCATION:FL
CATEGORIES:Gatherings/Conferences
ATTACH;FMTTYPE=image/png:https://cystinosis.org/wp-content/uploads/2020/09/CystinosisBasics.png
END:VEVENT
BEGIN:VEVENT
DTSTART;TZID=UTC:20201003T120000
DTEND;TZID=UTC:20201003T133000
DTSTAMP:20260420T231930
CREATED:20201001T143243Z
LAST-MODIFIED:20201001T143243Z
UID:2601-1601726400-1601731800@cystinosis.org
SUMMARY:Cystinosis Sessions: Alternative Therapies\, Exercise & Activities
DESCRIPTION:Join hosts from the Adult Leadership Advisory Board (ALAB) for the Cystinosis Sessions video conference series – LIVE- on Saturday\, October 3 at 12:00 pm ET. This open discussion will include alternative therapies\, exercise and activities. \nJoin Zoom Meeting\nhttps://zoom.us/j/2663523786\nMeeting ID: 266 352 3786 \nHere are instructions to help with downloading Zoom. We recommend completing these steps prior to the call. \n\nSecure access to a mobile device (PC\, Apple\, Android)\, desktop or laptop computer\nEnsure reliable internet connection\nDownload Zoom Cloud Meetings here or through your device’s app store\nClick on the link https://zoom.us/j/2663523786\nHave the Meeting ID ready: 266 352 3786. If you use the link provided\, the meeting ID is not needed.\n\nAdd the meeting to your calendar by clicking one of the buttons below.
URL:https://cystinosis.org/event/cystinosis-sessions-alternative-therapies-exercise-activities/
LOCATION:FL
CATEGORIES:Gatherings/Conferences
ATTACH;FMTTYPE=image/png:https://cystinosis.org/wp-content/uploads/2020/03/Logo_Header.png
END:VEVENT
END:VCALENDAR