BEGIN:VCALENDAR
VERSION:2.0
PRODID:-//Cystinosis Research Network - ECPv6.15.20//NONSGML v1.0//EN
CALSCALE:GREGORIAN
METHOD:PUBLISH
X-WR-CALNAME:Cystinosis Research Network
X-ORIGINAL-URL:https://cystinosis.org
X-WR-CALDESC:Events for Cystinosis Research Network
REFRESH-INTERVAL;VALUE=DURATION:PT1H
X-Robots-Tag:noindex
X-PUBLISHED-TTL:PT1H
BEGIN:VTIMEZONE
TZID:UTC
BEGIN:STANDARD
TZOFFSETFROM:+0000
TZOFFSETTO:+0000
TZNAME:UTC
DTSTART:20220101T000000
END:STANDARD
END:VTIMEZONE
BEGIN:VEVENT
DTSTART;VALUE=DATE:20230507
DTEND;VALUE=DATE:20230508
DTSTAMP:20260422T072815
CREATED:20221014T141524Z
LAST-MODIFIED:20230504T191129Z
UID:4060-1683417600-1683503999@cystinosis.org
SUMMARY:Cystinosis Awareness Day
DESCRIPTION:On May 7\, 2023 the cystinosis community will come together in honor of Cystinosis Awareness Day (CAD). Now in it’s sixth year\, CAD is a global effort to raise funds and educate the general population about this disease. This year’s campaign will include testimonials from cystinosis warriors\, caregivers/family members and international cystinosis organizations. In addition\, we will feature physicians and rare partner organizations who’ve teamed up to amplify our message. \nHow will you spread the word? Here are some ideas to get you started: \n\n“One Thing” Campaign. Share the one thing you wish everyone knew about cystinosis\nNominate yourself or a fellow cystinosis warrior for the Cystinosis Warrior Impact Program\nShare your cystinosis odyssey or pass along information from our website\nVolunteer for cystinosis research studies\nStart a cystinosis fundraiser. Facebook and Instagram make this easy or contact Jonathan Dicks on how to host an event (jdicks@cystinosis.org)\nVisit our general list on How to Help\nTo donate\, click here\n\nIf you would like to volunteer to become and event ambassador\, please email info@cystinosis.org.
URL:https://cystinosis.org/event/cystinosis-awareness-day/
LOCATION:FL
CATEGORIES:Fundraising Events
ORGANIZER;CN="Cystinosis Research Network":MAILTO:info@cystinosis.org
END:VEVENT
END:VCALENDAR