BEGIN:VCALENDAR
VERSION:2.0
PRODID:-//Cystinosis Research Network - ECPv6.15.20//NONSGML v1.0//EN
CALSCALE:GREGORIAN
METHOD:PUBLISH
X-ORIGINAL-URL:https://cystinosis.org
X-WR-CALDESC:Events for Cystinosis Research Network
REFRESH-INTERVAL;VALUE=DURATION:PT1H
X-Robots-Tag:noindex
X-PUBLISHED-TTL:PT1H
BEGIN:VTIMEZONE
TZID:UTC
BEGIN:STANDARD
TZOFFSETFROM:+0000
TZOFFSETTO:+0000
TZNAME:UTC
DTSTART:20230101T000000
END:STANDARD
END:VTIMEZONE
BEGIN:VEVENT
DTSTART;VALUE=DATE:20240507
DTEND;VALUE=DATE:20240508
DTSTAMP:20260419T233803
CREATED:20230919T145719Z
LAST-MODIFIED:20240420T023808Z
UID:4548-1715040000-1715126399@cystinosis.org
SUMMARY:Cystinosis Awareness Day
DESCRIPTION:Join us on and leading up to May 7th to promote cystinosis awareness\, education and fundraising efforts. \nOur 7th annual awareness day campaign focuses on #CystinosisStereotypes with 3 ways go participate: share\, create and/or donate. \n\nShare. \n\n\nEach day our community wakes up and challenges cystinosis stereotypes. Over the next few weeks we will be releasing examples from global cystinosis warriors calling out those stereotypes through videos\, photos and personal perspectives. Please share to help shatter #CystinosisStereotypes \n\n\nCreate.  \n\n\nMake your own video/post in response to the questions: What cystinosis stereotype are you breaking? Which do you wish to break? Once created\, share with your network with #CystinosisStereotypes \n\n\nDonate.  \n\n\nYour Cystinosis Awareness Day donations will be TRIPLED. $10 turns into $30\, $100 into $300\, and so on. Support cystinosis research\, family assistance and educational programming today! The match will be capped at $15\,000. \n\nYou may also be interested in: \n\nCincinnati\, OH Family Meetup There will be an in person event for those regional to Cincinnati\, Ohio on May 4th. Registration is complimentary and you can learn more here\nFor Your Healthcare Team The CRN is hosting an event at The New York Academy of Medicine to discuss comprehensive care in cystinosis. The May 31st symposium is for healthcare professionals. Please share the link with your care teams – they don’t want to miss this information-packed agenda\nSpecial Programs Check out our robust support programming which includes the Cystinosis Warrior Impact Program. Apply yourself or nominate a loved one living with cystinosis\nAdult Leadership Advisory Board Open to adults living with cystinosis 18+ years old\, see the group’s current initiatives and apply to be a member here\nVolunteer for Research Be a part of important advancements in the world of cystinosis. We are currently recruiting for the Quality of Life study and the full list is available on our webpage\n\nThank you to our sponsors: \n \n \n 
URL:https://cystinosis.org/event/cystinosis-awareness-day-2/
LOCATION:FL
CATEGORIES:Fundraising Events
END:VEVENT
END:VCALENDAR